BEGIN:VCALENDAR
VERSION:2.0
PRODID:-//Museums- und Geschichtsverein Schramberg e.V. - ECPv6.15.20//NONSGML v1.0//EN
CALSCALE:GREGORIAN
METHOD:PUBLISH
X-WR-CALNAME:Museums- und Geschichtsverein Schramberg e.V.
X-ORIGINAL-URL:https://museums-geschichtsverein-schramberg.de
X-WR-CALDESC:Veranstaltungen für Museums- und Geschichtsverein Schramberg e.V.
REFRESH-INTERVAL;VALUE=DURATION:PT1H
X-Robots-Tag:noindex
X-PUBLISHED-TTL:PT1H
BEGIN:VTIMEZONE
TZID:UTC
BEGIN:STANDARD
TZOFFSETFROM:+0000
TZOFFSETTO:+0000
TZNAME:UTC
DTSTART:20210101T000000
END:STANDARD
END:VTIMEZONE
BEGIN:VEVENT
DTSTART;TZID=UTC:20220414T190000
DTEND;TZID=UTC:20220414T220000
DTSTAMP:20260423T234413
CREATED:20221108T221808Z
LAST-MODIFIED:20221108T223104Z
UID:272-1649962800-1649973600@museums-geschichtsverein-schramberg.de
SUMMARY:1. Kräz-Stammtisch April 2022
DESCRIPTION:Zum ersten „Kräz“-Stammtisch lädt der Museums- und Geschichtsverein Schramberg in die Villa Junghans im Park der Zeiten am Donnerstag\, 14. April\, ab 19 Uhr. Alle Geschichtsinteressierten sind aber nun erstmals eingeladen zu diesem geselligen Austausch nicht nur zur Vereinszeitschrift „D‘ Kräz“\, sondern zur Stadtgeschichte allgemein und allen Fragen rund um die Geschichtsforschung.Der Stammtisch soll Mitglieder des Vereins genauso wie „Kräz“-Autoren\, „Kräz“-Lesern und allgemein Menschen mit Freude an Geschichtsthemen ansprechen. Er bietet eine offene Gesprächsrunde für Jung und Alt und für die Kontakte untereinander. Als regelmäßiger Termin ist der zweite Donnerstag im Monat geplant\, es wird aber jeweils über die Presse eingeladen. Eine Anmeldung ist nicht erforderlich.
URL:https://museums-geschichtsverein-schramberg.de/veranstaltungen/1-kraez-stammtisch-april-2022
LOCATION:Villa Junghans Schramberg\, Bauernhofweg 25\, Schramberg\, Baden-Württemberg\, 78713\, Deutschland
CATEGORIES:Stammtisch
ATTACH;FMTTYPE=image/jpeg:https://museums-geschichtsverein-schramberg.de/wp-content/uploads/2019/04/Kraez-Stammtisch_.jpg
END:VEVENT
END:VCALENDAR