BEGIN:VCALENDAR
VERSION:2.0
PRODID:-//Museums- und Geschichtsverein Schramberg e.V. - ECPv6.15.20//NONSGML v1.0//EN
CALSCALE:GREGORIAN
METHOD:PUBLISH
X-ORIGINAL-URL:https://museums-geschichtsverein-schramberg.de
X-WR-CALDESC:Veranstaltungen für Museums- und Geschichtsverein Schramberg e.V.
REFRESH-INTERVAL;VALUE=DURATION:PT1H
X-Robots-Tag:noindex
X-PUBLISHED-TTL:PT1H
BEGIN:VTIMEZONE
TZID:UTC
BEGIN:STANDARD
TZOFFSETFROM:+0000
TZOFFSETTO:+0000
TZNAME:UTC
DTSTART:20210101T000000
END:STANDARD
END:VTIMEZONE
BEGIN:VEVENT
DTSTART;TZID=UTC:20220908T190000
DTEND;TZID=UTC:20220908T220000
DTSTAMP:20260423T160311
CREATED:20221108T215952Z
LAST-MODIFIED:20221108T220044Z
UID:258-1662663600-1662674400@museums-geschichtsverein-schramberg.de
SUMMARY:Kräz-Stammtisch September 2022
DESCRIPTION:Zum nächsten „Kräz“-Stammtisch lädt der Museums- und Geschichtsverein Schramberg in die Villa Junghans im Park der Zeiten am Donnerstag\, 08. September\, ab 19 Uhr. Geschichtsinteressierte Mitglieder\, Bürger und Gäste sind eingeladen zu einem geselligen Austausch.
URL:https://museums-geschichtsverein-schramberg.de/veranstaltungen/kraez-stammtisch-september-2022
LOCATION:Villa Junghans Schramberg\, Bauernhofweg 25\, Schramberg\, Baden-Württemberg\, 78713\, Deutschland
CATEGORIES:Stammtisch
ATTACH;FMTTYPE=image/jpeg:https://museums-geschichtsverein-schramberg.de/wp-content/uploads/2019/04/Kraez-Stammtisch_.jpg
END:VEVENT
END:VCALENDAR