BEGIN:VCALENDAR
VERSION:2.0
PRODID:-//Museums- und Geschichtsverein Schramberg e.V. - ECPv6.15.20//NONSGML v1.0//EN
CALSCALE:GREGORIAN
METHOD:PUBLISH
X-WR-CALNAME:Museums- und Geschichtsverein Schramberg e.V.
X-ORIGINAL-URL:https://museums-geschichtsverein-schramberg.de
X-WR-CALDESC:Veranstaltungen für Museums- und Geschichtsverein Schramberg e.V.
REFRESH-INTERVAL;VALUE=DURATION:PT1H
X-Robots-Tag:noindex
X-PUBLISHED-TTL:PT1H
BEGIN:VTIMEZONE
TZID:UTC
BEGIN:STANDARD
TZOFFSETFROM:+0000
TZOFFSETTO:+0000
TZNAME:UTC
DTSTART:20210101T000000
END:STANDARD
END:VTIMEZONE
BEGIN:VEVENT
DTSTART;TZID=UTC:20221013T190000
DTEND;TZID=UTC:20221013T220000
DTSTAMP:20260423T095600
CREATED:20221108T215011Z
LAST-MODIFIED:20221108T223151Z
UID:251-1665687600-1665698400@museums-geschichtsverein-schramberg.de
SUMMARY:Kräz-Stammtisch Oktober 2022
DESCRIPTION:Zum nächsten „Kräz“-Stammtisch lädt der Museums- und Geschichtsverein Schramberg in das Gasthaus Spunden in die Hauptstraße 40 in Schramberg am Donnerstag\, 13. Oktober\, ab 19 Uhr. Geschichtsinteressierte Mitglieder\, Bürger und Gäste sind eingeladen zu einem geselligen Austausch.
URL:https://museums-geschichtsverein-schramberg.de/veranstaltungen/kraez-stammtisch-oktober-2022
LOCATION:Gasthaus Spunden\, Hauptstraße 40\, Schramberg\, Baden-Württemberg\, 78713\, Deutschland
CATEGORIES:Stammtisch
ATTACH;FMTTYPE=image/jpeg:https://museums-geschichtsverein-schramberg.de/wp-content/uploads/2019/04/Kraez-Stammtisch_.jpg
END:VEVENT
END:VCALENDAR