BEGIN:VCALENDAR
VERSION:2.0
PRODID:-//Museums- und Geschichtsverein Schramberg e.V. - ECPv6.15.20//NONSGML v1.0//EN
CALSCALE:GREGORIAN
METHOD:PUBLISH
X-ORIGINAL-URL:https://museums-geschichtsverein-schramberg.de
X-WR-CALDESC:Veranstaltungen für Museums- und Geschichtsverein Schramberg e.V.
REFRESH-INTERVAL;VALUE=DURATION:PT1H
X-Robots-Tag:noindex
X-PUBLISHED-TTL:PT1H
BEGIN:VTIMEZONE
TZID:UTC
BEGIN:STANDARD
TZOFFSETFROM:+0000
TZOFFSETTO:+0000
TZNAME:UTC
DTSTART:20220101T000000
END:STANDARD
END:VTIMEZONE
BEGIN:VEVENT
DTSTART;TZID=UTC:20230309T190000
DTEND;TZID=UTC:20230309T210000
DTSTAMP:20260423T020104
CREATED:20230228T071954Z
LAST-MODIFIED:20230228T072507Z
UID:412-1678388400-1678395600@museums-geschichtsverein-schramberg.de
SUMMARY:Kräz-Stammtisch März 2023
DESCRIPTION:Zum nächsten „Kräz“-Stammtisch lädt der Museums- und Geschichtsverein Schramberg am Donnerstag\, 09. März 2023\, ab 19 Uhr in das Café Hirschbrunnen in Schramberg. Geschichtsinteressierte Mitglieder\, Bürger und Gäste sind eingeladen zu einem geselligen Austausch.
URL:https://museums-geschichtsverein-schramberg.de/veranstaltungen/kraez-stammtisch-maerz-2023
LOCATION:Café Hirschbrunnen\, Marktstraße 12\, Schramberg\, 78713\, Deutschland
CATEGORIES:Stammtisch
END:VEVENT
END:VCALENDAR